BEGIN:VCALENDAR
VERSION:2.0
PRODID:-//Reliance Fish Restaurant - ECPv6.15.17.1//NONSGML v1.0//EN
CALSCALE:GREGORIAN
METHOD:PUBLISH
X-ORIGINAL-URL:https://reliancefishrestaurant.com
X-WR-CALDESC:Events for Reliance Fish Restaurant
REFRESH-INTERVAL;VALUE=DURATION:PT1H
X-Robots-Tag:noindex
X-PUBLISHED-TTL:PT1H
BEGIN:VTIMEZONE
TZID:Europe/London
BEGIN:DAYLIGHT
TZOFFSETFROM:+0000
TZOFFSETTO:+0100
TZNAME:BST
DTSTART:20250330T010000
END:DAYLIGHT
BEGIN:STANDARD
TZOFFSETFROM:+0100
TZOFFSETTO:+0000
TZNAME:GMT
DTSTART:20251026T010000
END:STANDARD
BEGIN:DAYLIGHT
TZOFFSETFROM:+0000
TZOFFSETTO:+0100
TZNAME:BST
DTSTART:20260329T010000
END:DAYLIGHT
BEGIN:STANDARD
TZOFFSETFROM:+0100
TZOFFSETTO:+0000
TZNAME:GMT
DTSTART:20261025T010000
END:STANDARD
BEGIN:DAYLIGHT
TZOFFSETFROM:+0000
TZOFFSETTO:+0100
TZNAME:BST
DTSTART:20270328T010000
END:DAYLIGHT
BEGIN:STANDARD
TZOFFSETFROM:+0100
TZOFFSETTO:+0000
TZNAME:GMT
DTSTART:20271031T010000
END:STANDARD
END:VTIMEZONE
BEGIN:VEVENT
DTSTART;TZID=Europe/London:20261003T193000
DTEND;TZID=Europe/London:20261003T223000
DTSTAMP:20260421T182713
CREATED:20250306T155309Z
LAST-MODIFIED:20260319T111232Z
UID:273-1791055800-1791066600@reliancefishrestaurant.com
SUMMARY:Cliff Richard Tribute Night
DESCRIPTION:🎸 An Evening with the Best of Cliff – Saturday 3rd October 2026 🎤 \nGet ready to relive the golden years of British pop at Reliance Fish Restaurant’s Cliff Richard Tribute Night\, featuring the UK’s No.1 tribute artist – Jimmy Jemain! \n📅 Saturday 3rd October 2026🕢 7:30 PM – 10:30 PM📍 Reliance Fish Restaurant\, Gravesend \n🎶 From Summer Holiday to Living Doll\, enjoy all the hits in a night packed with nostalgia\, charm\, and unforgettable live performance from Jimmy Jemain\, the only Cliff Richard tribute endorsed by Sir Cliff himself! \n🎟️ Tickets: £39 per person🍽️ Includes: \n\n\nOur signature Fish & Chips \n\n\nA scoop of ice cream \n\n\nA night of timeless classics \n\n\n📞 Booking essential – no walk-ins \n🎫 Seats fill fast – book now and sing along to all your favourites! \n#CliffRichardTribute #JimmyJemainLive #GravesendEvents #RelianceFishRestaurant #LiveMusicNight #DinnerAndShow \n\nCliff Richard Tribute Night\nTickets are £39pp (unless otherwise stated)\nIncludes: fish and chips (GF options available)\, ice cream and a great show!\nTo make a booking call us on 07768 087036\n£20pp deposits are required to secure the booking and full payment must be made one month prior to the show.
URL:https://reliancefishrestaurant.com/event/cliff-richard-tribute-night/
LOCATION:Reliance Fish Restaurant\, 4 Queen Street\, Gravesend\, Kent\, DA12 2EE\, United Kingdom
ATTACH;FMTTYPE=image/jpeg:https://reliancefishrestaurant.com/wp-content/uploads/2025/03/Jimmy-Jermaine.jpg
END:VEVENT
BEGIN:VEVENT
DTSTART;TZID=Europe/London:20261016T193000
DTEND;TZID=Europe/London:20261016T223000
DTSTAMP:20260421T182713
CREATED:20260319T112508Z
LAST-MODIFIED:20260319T112655Z
UID:757-1792179000-1792189800@reliancefishrestaurant.com
SUMMARY:Elvis Tribute Evening
DESCRIPTION:🎄🎤 Elvis Tribute Evening – Featuring Mario Kombou 🎤🎄Step into the summer season with a rock ’n’ roll twist! Join us on Friday 16th October 2026 for an unforgettable Elvis Tribute Evening with the amazing Mario Kombou\, who has sold out the Dominion Theatre three times this year! \nSing along to all the King’s greatest hits — from Jailhouse Rock to Can’t Help Falling in Love — and enjoy a high-energy party night full of fun\, music\, and great food. \n✨ Live Elvis tribute by Mario Kombou🎶 Iconic rock ’n’ roll hits🎄 Festive party vibes\, food & drinks \n📅 Friday 16th October 2026📍 Reliance Fish Restaurant🎟️ Book early — this night will sell fast! \n#ElvisTribute #MarioKombou  #LiveMusicNight #RelianceFishRestaurant #GravesendEvents #RockNRoll \n\nTickets are £39pp (unless otherwise stated)\nIncludes: fish and chips (GF options available)\, ice cream and a great show!\nTo make a booking call us on 07768 087036\n£20pp deposits are required to secure the booking and full payment must be made one month prior to the show.
URL:https://reliancefishrestaurant.com/event/elvis-tribute-evening-3/
LOCATION:Reliance Fish Restaurant\, 4 Queen Street\, Gravesend\, Kent\, DA12 2EE\, United Kingdom
ATTACH;FMTTYPE=image/jpeg:https://reliancefishrestaurant.com/wp-content/uploads/2025/03/WhatsApp-Image-2025-10-08-at-12.24.33.jpeg
END:VEVENT
BEGIN:VEVENT
DTSTART;TZID=Europe/London:20261017T193000
DTEND;TZID=Europe/London:20261017T223000
DTSTAMP:20260421T182713
CREATED:20260319T113031Z
LAST-MODIFIED:20260319T113126Z
UID:762-1792265400-1792276200@reliancefishrestaurant.com
SUMMARY:80s' & 90's Soul Night with Deleelah
DESCRIPTION:🎄🎶 80’s & 90’s Soul Night – Featuring Deleelah 🎶🎄Get ready to dance\, sing\, and celebrate in style! Join us for an unforgettable 80’s & 90’s Soul Night with the amazing Deleelah at Reliance Fish Restaurant. \nExpect all the classic R&B and soul hits that defined two iconic decades — from smooth ballads to dancefloor favourites — guaranteed to get you singing along and in the spirit! \n✨ Live 80’s & 90’s soul performance💃 Dancefloor vibes & festive fun🍽️ Great food\, drinks & lively atmosphere \n📅 Date: Saturday\, 17th October 2026📍 Reliance Fish Restaurant🎟️ Book early — limited tables available! \n#80sSoulNight #90sSoulNight #DeleelahLive  #LiveMusicKent #RelianceFishRestaurant #GravesendEvents #SoulMusic #RnBVibes #NightOut
URL:https://reliancefishrestaurant.com/event/80s-90s-soul-night-with-deleelah/
LOCATION:Reliance Fish Restaurant\, 4 Queen Street\, Gravesend\, Kent\, DA12 2EE\, United Kingdom
ATTACH;FMTTYPE=image/jpeg:https://reliancefishrestaurant.com/wp-content/uploads/2025/12/300411180_400993005478731_4712024100072105474_n-2.jpg
END:VEVENT
BEGIN:VEVENT
DTSTART;TZID=Europe/London:20261021T193000
DTEND;TZID=Europe/London:20261021T223000
DTSTAMP:20260421T182713
CREATED:20250310T124323Z
LAST-MODIFIED:20260319T111518Z
UID:347-1792611000-1792621800@reliancefishrestaurant.com
SUMMARY:The Dualers Tyber
DESCRIPTION:🎷 The Dualers Night with Tyber – Wednesday 21st October 🎶\nGet ready for one half of the UK’s top ska-&-reggae bands LIVE in Gravesend! We’re thrilled to host Tyber from the Dualers on Wednesday 21st October bringing their signature sound to the stage. \n🌟 Who are The Dualers?\n\n\nA formidable 8- or 9-piece ska & reggae band originally hailing from South-East London. \n\n\nThey first made waves when their self-released single “Kiss on the Lips” entered the UK Top 30 despite having no major label backing. \n\n\nKnown for their vibrant live shows\, infectious energy and soulful blend of Jamaican-style rhythm & blues\, ska and reggae. \n\n\nThey’ve supported big names and played huge venues\, building a global fanbase and a reputation for putting on an unforgettable performance. \n\n\n📍 Event Details\n\n\nDate: Wednesday 21st October \n\n\nTime: 7:30 PM – 10:30 PM \n\n\nVenue: Reliance Fish Restaurant\, Gravesend \n\n\nWhy come: Excellent food\, brilliant live music\, and an atmosphere guaranteed to get you dancing! \n\n\n🎟️ Book Now – Spaces Are Limited\nMake sure you book your place ahead of time.. Only a few tickets left \n👉 Reserve your table today call 07768 087036 \n#TheDualers #LiveMusic #SkaAndReggae #RelianceFishRestaurant #GravesendEvents #DinnerAndMusic #UKBands #DanceNight #PartyVibes \n  \n\nThe Dualers Live in Gravesend!\nTickets are £39pp (unless otherwise stated)\nIncludes: fish and chips (GF options available)\, ice cream and a great show!\nTo make a booking call us on 07768 087036\n£20pp deposits are required to secure the booking and full payment must be made one month prior to the show.
URL:https://reliancefishrestaurant.com/event/the-dualers-night-2/
LOCATION:Reliance Fish Restaurant\, 4 Queen Street\, Gravesend\, Kent\, DA12 2EE\, United Kingdom
ATTACH;FMTTYPE=image/jpeg:https://reliancefishrestaurant.com/wp-content/uploads/2025/03/Tyber-Dualers.jpg
END:VEVENT
BEGIN:VEVENT
DTSTART;TZID=Europe/London:20261024T193000
DTEND;TZID=Europe/London:20261024T220000
DTSTAMP:20260421T182713
CREATED:20251229T171651Z
LAST-MODIFIED:20260108T134756Z
UID:659-1792870200-1792879200@reliancefishrestaurant.com
SUMMARY:Karen Carpenter Party Set
DESCRIPTION:🎤✨ Karen Carpenter Tribute Evening – Featuring Toni Lee ✨🎤Join us on Saturday 24th October for a beautiful and nostalgic evening celebrating the timeless music of Karen Carpenter\, performed live by the wonderful Toni Lee at Reliance Fish Restaurant. \nWith her warm\, expressive vocals and heartfelt delivery\, Toni Lee perfectly captures the elegance and emotion of Karen Carpenter’s iconic songs. Expect all the beloved classics including Close to You\, We’ve Only Just Begun\, Rainy Days and Mondays\, and many more. \n✨ Live Karen Carpenter tribute performance🎶 Timeless\, feel-good classics🍽️ Great food\, drinks & relaxed atmosphere \n📅 Saturday 24th October🕢 7:30pm – 10:30pm📍 Reliance Fish Restaurant🎟️ Book early — this evening will be popular! \n#KarenCarpenterTribute #ToniLeeLive #CarpentersMusic #LiveMusicNight #RelianceFishRestaurant #GravesendEvents #TributeEvening #NightOut \n\nTickets are £39pp (unless otherwise stated)\nIncludes: fish and chips (GF options available)\, ice cream and a great show!\nTo make a booking call us on 07768 087036\n£20pp deposits are required to secure the booking and full payment must be made one month prior to the show.
URL:https://reliancefishrestaurant.com/event/karen-carpenter-party-set/
LOCATION:Reliance Fish Restaurant\, 4 Queen Street\, Gravesend\, Kent\, DA12 2EE\, United Kingdom
ATTACH;FMTTYPE=image/jpeg:https://reliancefishrestaurant.com/wp-content/uploads/2025/12/Karen-Lee.jpg
END:VEVENT
END:VCALENDAR