BEGIN:VCALENDAR
VERSION:2.0
PRODID:-//Reliance Fish Restaurant - ECPv6.15.17.1//NONSGML v1.0//EN
CALSCALE:GREGORIAN
METHOD:PUBLISH
X-WR-CALNAME:Reliance Fish Restaurant
X-ORIGINAL-URL:https://reliancefishrestaurant.com
X-WR-CALDESC:Events for Reliance Fish Restaurant
REFRESH-INTERVAL;VALUE=DURATION:PT1H
X-Robots-Tag:noindex
X-PUBLISHED-TTL:PT1H
BEGIN:VTIMEZONE
TZID:Europe/London
BEGIN:DAYLIGHT
TZOFFSETFROM:+0000
TZOFFSETTO:+0100
TZNAME:BST
DTSTART:20250330T010000
END:DAYLIGHT
BEGIN:STANDARD
TZOFFSETFROM:+0100
TZOFFSETTO:+0000
TZNAME:GMT
DTSTART:20251026T010000
END:STANDARD
BEGIN:DAYLIGHT
TZOFFSETFROM:+0000
TZOFFSETTO:+0100
TZNAME:BST
DTSTART:20260329T010000
END:DAYLIGHT
BEGIN:STANDARD
TZOFFSETFROM:+0100
TZOFFSETTO:+0000
TZNAME:GMT
DTSTART:20261025T010000
END:STANDARD
BEGIN:DAYLIGHT
TZOFFSETFROM:+0000
TZOFFSETTO:+0100
TZNAME:BST
DTSTART:20270328T010000
END:DAYLIGHT
BEGIN:STANDARD
TZOFFSETFROM:+0100
TZOFFSETTO:+0000
TZNAME:GMT
DTSTART:20271031T010000
END:STANDARD
END:VTIMEZONE
BEGIN:VEVENT
DTSTART;TZID=Europe/London:20260710T193000
DTEND;TZID=Europe/London:20260710T223000
DTSTAMP:20260421T143214
CREATED:20250306T154200Z
LAST-MODIFIED:20260219T095906Z
UID:263-1783711800-1783722600@reliancefishrestaurant.com
SUMMARY:Greek Night
DESCRIPTION:Join us for a spectacular Greek Night at Reliance Fish Restaurant on Friday 10th July 2026 — an evening full of Mediterranean flavour\, music and vibrant atmosphere! \nEnjoy a delicious Greek-inspired menu\, great company\, and the sounds of traditional favourites that will have you clapping along and maybe even joining in a little dancing! 💃🕺 \nExpect a lively\, feel-good night packed with fantastic food\, flowing drinks and that unmistakable Greek party spirit. Whether you’re planning a fun night out with friends\, a celebration\, or just fancy something a little different — this is the perfect summer evening event. \n📅 Friday 10th July 2026🎶 Live entertainment🍽️ Delicious themed menu🍷 Drinks flowing all evening \nSpaces are limited — book early to avoid missing out! \nJoin us at the Reliance fish Restaurant for an amazing night of Food and Entertainment. Greek night is always a popular evening so book now to avoid dissapointment \n\nGreek Night at Reliance Fish Restaurant\nTickets are £39pp (unless otherwise stated)\nIncludes: fish and chips (GF options available)\, ice cream and a great show!\nTo make a booking call us on 07768 087036\n£20pp deposits are required to secure the booking and full payment must be made one month prior to the show.
URL:https://reliancefishrestaurant.com/event/greek-night/
LOCATION:Reliance Fish Restaurant\, 4 Queen Street\, Gravesend\, Kent\, DA12 2EE\, United Kingdom
ATTACH;FMTTYPE=image/jpeg:https://reliancefishrestaurant.com/wp-content/uploads/2025/03/dimitrisvetsikas1969-greece-1536054_640.jpg
END:VEVENT
BEGIN:VEVENT
DTSTART;TZID=Europe/London:20260717T193000
DTEND;TZID=Europe/London:20260717T223000
DTSTAMP:20260421T143214
CREATED:20260319T112153Z
LAST-MODIFIED:20260319T112157Z
UID:751-1784316600-1784327400@reliancefishrestaurant.com
SUMMARY:Si Cranstoun (formaly of the Dualers)
DESCRIPTION:🎤✨ Si Cranstoun Live – One Night Only! ✨🎤Join us on Friday 17th July 2026 for a very special night with Si Cranstoun — formerly the frontman of The Dualers — live at Reliance Fish Restaurant. \nKnown for his unmistakable voice\, infectious energy\, and feel-good blend of ska\, soul\, and reggae-inspired sounds\, Si Cranstoun brings chart-topping hits and fan favourites to the stage in an intimate live setting. \nExpect a night packed with:🎶 Ska & soul classics🔥 High-energy live performance🍽️ Great food\, drinks & atmosphere \nA must-see night for fans of The Dualers and lovers of live music. \n📅 Friday 17th July 2026📍 Reliance Fish Restaurant🎟️ Book early — this one will be huge! \n#SiCranstoun #TheDualers #LiveMusicNight #SkaSoul #RelianceFishRestaurant #TributeAndLiveNights #GravesendEvents #NightOut \n			\n				\n				\n				\n				\n				\nSi Cranstoun Night\nTickets are £39pp (unless otherwise stated)\nIncludes: fish and chips (GF options available)\, ice cream and a great show!\nTo make a booking call us on 07768 087036\n£20pp deposits are required to secure the booking and full payment must be made one month prior to the show.
URL:https://reliancefishrestaurant.com/event/si-cranstoun-formaly-of-the-dualers-2/
LOCATION:Reliance Fish Restaurant\, 4 Queen Street\, Gravesend\, Kent\, DA12 2EE\, United Kingdom
ATTACH;FMTTYPE=image/jpeg:https://reliancefishrestaurant.com/wp-content/uploads/2025/07/Si-Cranstoun-.jpg
END:VEVENT
BEGIN:VEVENT
DTSTART;TZID=Europe/London:20260718T193000
DTEND;TZID=Europe/London:20260718T223000
DTSTAMP:20260421T143214
CREATED:20250306T173132Z
LAST-MODIFIED:20260319T111017Z
UID:297-1784403000-1784413800@reliancefishrestaurant.com
SUMMARY:Elvis Tribute Evening
DESCRIPTION:🎸 Elvis Tribute Evening – Saturday 18th July 🎤\nThe King is back… and he’s better than ever! \nJoin us at Reliance Fish Restaurant for an unforgettable evening of Elvis classics performed by the incredible Mario Kombou – star of London’s West End smash hit Jailhouse Rock. \n🎶 With his powerful voice\, magnetic stage presence\, and authentic style\, Mario Kombou has wowed audiences across the UK – even selling out the Dominion Theatre three times this year! \nExpect all your favourites\, including Suspicious Minds\, Hound Dog\, Can’t Help Falling in Love and more – it’s a true celebration of The King of Rock ’n’ Roll. \n📅 Saturday 18th July 2026🕢 7:30PM – 10:30PM📍 Reliance Fish Restaurant\, Gravesend \n🎟️ £39 per person – includes our famous Fish & Chips and  ice cream⚠️ Booking essential – no walk-ins \n💥 Don’t miss your chance to see one of the UK’s best Elvis tributes up close in an intimate setting – this one will sell out fast! \n👉 Call to Reserve your table now \n#ElvisTribute #MarioKombou #ElvisIsBack #RelianceFishRestaurant #GravesendEvents #DinnerAndShow #RocknRollNight #TributeEvening #TheKingLivesOn \n\nElvis Night at Reliance Fish Restaurant\nTickets are £39pp (unless otherwise stated)\nIncludes: fish and chips (GF options available)\, ice cream and a great show!\nTo make a booking call us on 07768 087036\n£20pp deposits are required to secure the booking and full payment must be made one month prior to the show.
URL:https://reliancefishrestaurant.com/event/elvis-tribute-evening-2/
LOCATION:Reliance Fish Restaurant\, 4 Queen Street\, Gravesend\, Kent\, DA12 2EE\, United Kingdom
ATTACH;FMTTYPE=image/jpeg:https://reliancefishrestaurant.com/wp-content/uploads/2025/03/WhatsApp-Image-2025-10-08-at-12.24.33.jpeg
END:VEVENT
END:VCALENDAR