BEGIN:VCALENDAR
VERSION:2.0
PRODID:-//Reliance Fish Restaurant - ECPv6.15.17.1//NONSGML v1.0//EN
CALSCALE:GREGORIAN
METHOD:PUBLISH
X-WR-CALNAME:Reliance Fish Restaurant
X-ORIGINAL-URL:https://reliancefishrestaurant.com
X-WR-CALDESC:Events for Reliance Fish Restaurant
REFRESH-INTERVAL;VALUE=DURATION:PT1H
X-Robots-Tag:noindex
X-PUBLISHED-TTL:PT1H
BEGIN:VTIMEZONE
TZID:Europe/London
BEGIN:DAYLIGHT
TZOFFSETFROM:+0000
TZOFFSETTO:+0100
TZNAME:BST
DTSTART:20240331T010000
END:DAYLIGHT
BEGIN:STANDARD
TZOFFSETFROM:+0100
TZOFFSETTO:+0000
TZNAME:GMT
DTSTART:20241027T010000
END:STANDARD
BEGIN:DAYLIGHT
TZOFFSETFROM:+0000
TZOFFSETTO:+0100
TZNAME:BST
DTSTART:20250330T010000
END:DAYLIGHT
BEGIN:STANDARD
TZOFFSETFROM:+0100
TZOFFSETTO:+0000
TZNAME:GMT
DTSTART:20251026T010000
END:STANDARD
BEGIN:DAYLIGHT
TZOFFSETFROM:+0000
TZOFFSETTO:+0100
TZNAME:BST
DTSTART:20260329T010000
END:DAYLIGHT
BEGIN:STANDARD
TZOFFSETFROM:+0100
TZOFFSETTO:+0000
TZNAME:GMT
DTSTART:20261025T010000
END:STANDARD
BEGIN:DAYLIGHT
TZOFFSETFROM:+0000
TZOFFSETTO:+0100
TZNAME:BST
DTSTART:20270328T010000
END:DAYLIGHT
BEGIN:STANDARD
TZOFFSETFROM:+0100
TZOFFSETTO:+0000
TZNAME:GMT
DTSTART:20271031T010000
END:STANDARD
END:VTIMEZONE
BEGIN:VEVENT
DTSTART;TZID=Europe/London:20260619T193000
DTEND;TZID=Europe/London:20260619T223000
DTSTAMP:20260421T172751
CREATED:20250225T132147Z
LAST-MODIFIED:20260407T132119Z
UID:169-1781897400-1781908200@reliancefishrestaurant.com
SUMMARY:80's & 90's R&B & Soul Night
DESCRIPTION:🎶✨ 80’s & 90’s Soul Night ✨🎶Get ready to dance\, sing\, and relive the golden era of soul as Deleelah returns for an unforgettable 80’s & 90’s Soul Night on Friday 19th June 2026 at Reliance Fish Restaurant. \nExpect all the feel-good classics and dancefloor favourites from two iconic decades — smooth grooves\, powerful vocals\, and pure nostalgia all night long. From soulful anthems to upbeat R&B hits\, this is the perfect night out for music lovers. \n✨ Live soul & R&B classics💃 Feel-good dancefloor vibes🍽️ Great food\, drinks & atmosphere \nPerfect for group nights out\, celebrations\, or anyone who loves timeless soul music. \n📅 Friday 19th June 2026🎤 Featuring Deleelah📍 Reliance Fish Restaurant🎟️ Book early — this night always fills fast! \n#80sSoul #90sSoul #SoulNight #DeleelahLive #RnBClassics #LiveMusicNight #RelianceFishRestaurant #GravesendEvents #NightOut \nReliance Fish Restaurant invites you to our 80’s & 90’s Soul Night hosted by the wonderful Deeleeah. \n\nTickets are £39pp (unless otherwise stated)\nIncludes: fish and chips (GF options available)\, ice cream and a great show!\nTo make a booking call us on 07768 087036\n£20pp deposits are required to secure the booking and full payment must be made one month prior to the show.
URL:https://reliancefishrestaurant.com/event/80s-90s-soul-night/
LOCATION:Reliance Fish Restaurant\, 4 Queen Street\, Gravesend\, Kent\, DA12 2EE\, United Kingdom
ATTACH;FMTTYPE=image/jpeg:https://reliancefishrestaurant.com/wp-content/uploads/2025/02/sade-80s-90s-night.jpeg
END:VEVENT
BEGIN:VEVENT
DTSTART;TZID=Europe/London:20260523T193000
DTEND;TZID=Europe/London:20260523T223000
DTSTAMP:20260421T172751
CREATED:20251229T164642Z
LAST-MODIFIED:20251229T164646Z
UID:629-1779564600-1779575400@reliancefishrestaurant.com
SUMMARY:Freddie Mercury Tribute Evening
DESCRIPTION:🎤👑 Freddie Mercury Tribute Evening 👑🎤Join us on Saturday 23rd May for an unforgettable night celebrating one of the greatest frontmen of all time — Freddie Mercury — performed live by the incredible Gary Goodmaze. \nRenowned for his powerful vocals\, commanding stage presence\, and authentic tribute to Queen’s legendary frontman\, Gary Goodmaze delivers all the anthems you know and love — from Bohemian Rhapsody and Don’t Stop Me Now to Somebody to Love and We Are The Champions. \n✨ A high-energy live show🍽️ Great food & drinks🎶 A night packed with sing-along classics \nPerfect for fans of Queen\, live music lovers\, and anyone looking for a brilliant night out. \n📅 Saturday 23rd May📍 Reliance Fish Restaurant🎟️ Book early — this one will sell fast! \n#FreddieMercuryTribute #GaryGoodmaze #QueenTribute #LiveMusicNight #RelianceFishRestaurant #TributeEvening #GravesendEvents #NightOut \n			\n				\n				\n				\n				\n				\nFreddie Mercury Tribute Night\nTickets are £35pp (unless otherwise stated)\nIncludes: fish and chips (GF options available)\, ice cream and a great show!\nTo make a booking call us on 07768 087036\n£20pp deposits are required to secure the booking and full payment must be made one month prior to the show.
URL:https://reliancefishrestaurant.com/event/freddie-mercury-tribute-evening-2/
LOCATION:Reliance Fish Restaurant\, 4 Queen Street\, Gravesend\, Kent\, DA12 2EE\, United Kingdom
ATTACH;FMTTYPE=image/avif:https://reliancefishrestaurant.com/wp-content/uploads/2025/03/IMG_1876_JPG.avif
END:VEVENT
BEGIN:VEVENT
DTSTART;TZID=Europe/London:20260516T193000
DTEND;TZID=Europe/London:20260516T223000
DTSTAMP:20260421T172751
CREATED:20250306T154657Z
LAST-MODIFIED:20260108T135028Z
UID:270-1778959800-1778970600@reliancefishrestaurant.com
SUMMARY:Elvis Tribute Night
DESCRIPTION:🎤✨ Elvis Tribute Evening – Featuring Mario Kombou ✨🎤Get ready for a night of rock ’n’ roll magic as the incredible Mario Kombou brings the legendary music of Elvis Presley to life on Saturday 16th May at Reliance Fish Restaurant. \nOne of the most in-demand Elvis tribute artists in the UK\, Mario Kombou is renowned for his powerful vocals\, authentic style\, and electrifying stage presence — so much so\, he’s sold out the Dominion Theatre three times. Expect all the King’s greatest hits\, from Suspicious Minds and Jailhouse Rock to Can’t Help Falling in Love. \n✨ Live Elvis tribute performance🎶 Iconic rock ’n’ roll classics🍽️ Great food\, drinks & an unforgettable atmosphere \n📅 Saturday 16th May📍 Reliance Fish Restaurant🎟️ Book early — this one will sell fast! \n#ElvisTribute #MarioKombou #LiveMusicNight #TributeEvening #RelianceFishRestaurant #GravesendEvents #NightOut #RockAndRoll \n			\n				\n				\n				\n				\n				\nElvis Tribute Night at the Reliance Fish Restaurant.\nTickets are £39pp (unless otherwise stated)\nIncludes: fish and chips (GF options available)\, ice cream and a great show!\nTo make a booking call us on 07768 087036\n£20pp deposits are required to secure the booking and full payment must be made one month prior to the show.
URL:https://reliancefishrestaurant.com/event/elvis-tribute-night/
LOCATION:Reliance Fish Restaurant\, 4 Queen Street\, Gravesend\, Kent\, DA12 2EE\, United Kingdom
ATTACH;FMTTYPE=image/jpeg:https://reliancefishrestaurant.com/wp-content/uploads/2025/03/WhatsApp-Image-2025-10-08-at-12.24.33.jpeg
END:VEVENT
BEGIN:VEVENT
DTSTART;TZID=Europe/London:20260508T193000
DTEND;TZID=Europe/London:20260508T223000
DTSTAMP:20260421T172751
CREATED:20251229T163828Z
LAST-MODIFIED:20260319T110523Z
UID:620-1778268600-1778279400@reliancefishrestaurant.com
SUMMARY:80s & 90's Soul with Deleelah
DESCRIPTION:🎷✨ 80’s & 90’s Soul Night with Deleelah ✨🎷Unwind and enjoy an evening of smooth\, soul as the stunning Deleelah takes the stage for a special 80s’ & 90’s Soul Night on Friday 8th May 2026 at Reliance Fish Restaurant. \nWith her rich vocals and elegant stage presence\, Deleelah delivers a beautiful selection of jazz standards\, soulful classics\, and laid-back favourites — creating the perfect soundtrack for a relaxed and stylish night out. \n✨ Smooth live jazz🍷 Great food & drinks🎶 Intimate\, elegant atmosphere \nIdeal for date night\, music lovers\, and anyone who enjoys timeless live music in a cosy setting. \n📅 Friday 8th May 2026🎤 Featuring Deleelah📍 Reliance Fish Restaurant🎟️ Book early to secure your table \n#JazzNight #DeleelahLive #LiveJazz #SmoothJazz #LiveMusicNight #RelianceFishRestaurant #GravesendEvents #NightOut \n			\n				\n				\n				\n				\n				  \n\nTickets are £39pp (unless otherwise stated)\nIncludes: fish and chips (GF options available)\, ice cream and a great show!\nTo make a booking call us on 07768 087036\n£20pp deposits are required to secure the booking and full payment must be made one month prior to the show.
URL:https://reliancefishrestaurant.com/event/jazz-night-with-deleelah/
LOCATION:Reliance Fish Restaurant\, 4 Queen Street\, Gravesend\, Kent\, DA12 2EE\, United Kingdom
ATTACH;FMTTYPE=image/jpeg:https://reliancefishrestaurant.com/wp-content/uploads/2025/12/300411180_400993005478731_4712024100072105474_n-2.jpg
END:VEVENT
BEGIN:VEVENT
DTSTART;TZID=Europe/London:20260425T193000
DTEND;TZID=Europe/London:20260425T223000
DTSTAMP:20260421T172751
CREATED:20251229T162813Z
LAST-MODIFIED:20260319T110322Z
UID:610-1777145400-1777156200@reliancefishrestaurant.com
SUMMARY:Boy George Tribute Act
DESCRIPTION:🎤✨ Boy George Tribute Evening ✨🎤Get ready for a night of colour\, charisma\, and iconic 80s anthems as we bring you a spectacular Boy George Tribute Evening on Saturday 25th April at Reliance Fish Restaurant. \nExpect all the unforgettable hits from Boy George and Culture Club — Karma Chameleon\, Do You Really Want to Hurt Me\, Time (Clock of the Heart) and many more — performed live with style\, energy\, and plenty of personality. \n✨ Big songs🎶 Pure 80s nostalgia🍽️ Great food\, drinks & atmosphere \nPerfect for 80s music fans\, fun nights out\, and anyone who loves a feel-good live show. \n📅 Saturday 25th April📍 Reliance Fish Restaurant🎟️ Book early to avoid missing out! \n#BoyGeorgeTribute #CultureClub #80sNight #LiveMusicNight #RelianceFishRestaurant #TributeEvening #GravesendEvents #NightOut \n			\n				\n				\n				\n				\n				\nTickets are £39pp (unless otherwise stated)\nIncludes: fish and chips (GF options available)\, ice cream and a great show!\nTo make a booking call us on 07768 087036\n£20pp deposits are required to secure the booking and full payment must be made one month prior to the show.
URL:https://reliancefishrestaurant.com/event/boy-george-tribute-act/
LOCATION:Reliance Fish Restaurant\, 4 Queen Street\, Gravesend\, Kent\, DA12 2EE\, United Kingdom
ATTACH;FMTTYPE=image/jpeg:https://reliancefishrestaurant.com/wp-content/uploads/2025/12/Boy-George-Experience-Keith-resized-600x380-1.jpg
END:VEVENT
BEGIN:VEVENT
DTSTART;TZID=Europe/London:20260411T193000
DTEND;TZID=Europe/London:20260411T223000
DTSTAMP:20260421T172751
CREATED:20250326T122203Z
LAST-MODIFIED:20251229T162400Z
UID:420-1775935800-1775946600@reliancefishrestaurant.com
SUMMARY:George Michael Tribute Evening
DESCRIPTION:🎤✨ George Michael Tribute Evening ✨🎤Join us on Saturday 11th April 2026 for an incredible night celebrating the music of the legendary George Michael\, performed live by the outstanding Andrew Browning. \nRenowned as one of the UK’s top George Michael tribute artists\, Andrew Browning delivers the voice\, style\, and emotion that defined George’s iconic career — from Wham! favourites to powerful solo classics like Careless Whisper\, Faith\, Freedom! and Don’t Let the Sun Go Down on Me. \nExpect an evening filled with:🎶 Timeless hits & soulful ballads🔥 A polished\, high-energy live performance🍽️ Great food\, drinks & atmosphere \nA perfect night out for George Michael fans and live music lovers alike. \n📅 Saturday 11th April 2026📍 Reliance Fish Restaurant🎟️ Book early — this will be a popular one! \n#GeorgeMichaelTribute #AndrewBrowning #LiveMusicNight #Wham #TributeEvening #RelianceFishRestaurant #GravesendEvents #NightOut \n			\n				\n				\n				\n				\n				\nTickets are £39pp (unless otherwise stated)\nIncludes: fish and chips (GF options available)\, ice cream and a great show!\nTo make a booking call us on 07768 087036\n£20pp deposits are required to secure the booking and full payment must be made one month prior to the show.
URL:https://reliancefishrestaurant.com/event/george-michael-tribute-evening/
LOCATION:Reliance Fish Restaurant\, 4 Queen Street\, Gravesend\, Kent\, DA12 2EE\, United Kingdom
ATTACH;FMTTYPE=image/webp:https://reliancefishrestaurant.com/wp-content/uploads/2025/03/Andrew-Browning.webp
END:VEVENT
BEGIN:VEVENT
DTSTART;TZID=Europe/London:20260328T193000
DTEND;TZID=Europe/London:20260328T230000
DTSTAMP:20260421T172751
CREATED:20250725T140845Z
LAST-MODIFIED:20251229T161932Z
UID:474-1774726200-1774738800@reliancefishrestaurant.com
SUMMARY:Si Cranstoun (formaly of the Dualers)
DESCRIPTION:🎤✨ Si Cranstoun Live – One Night Only! ✨🎤Join us on Saturday 28th March 2026 for a very special night with Si Cranstoun — formerly the frontman of The Dualers — live at Reliance Fish Restaurant. \nKnown for his unmistakable voice\, infectious energy\, and feel-good blend of ska\, soul\, and reggae-inspired sounds\, Si Cranstoun brings chart-topping hits and fan favourites to the stage in an intimate live setting. \nExpect a night packed with:🎶 Ska & soul classics🔥 High-energy live performance🍽️ Great food\, drinks & atmosphere \nA must-see night for fans of The Dualers and lovers of live music. \n📅 Saturday 28th March 2026📍 Reliance Fish Restaurant🎟️ Book early — this one will be huge! \n#SiCranstoun #TheDualers #LiveMusicNight #SkaSoul #RelianceFishRestaurant #TributeAndLiveNights #GravesendEvents #NightOut \n			\n				\n				\n				\n				\n				\nSi Cranstoun Night\nTickets are £39pp (unless otherwise stated)\nIncludes: fish and chips (GF options available)\, ice cream and a great show!\nTo make a booking call us on 07768 087036\n£20pp deposits are required to secure the booking and full payment must be made one month prior to the show.
URL:https://reliancefishrestaurant.com/event/si-cranstoun-formaly-of-the-dualers/
LOCATION:Reliance Fish Restaurant\, 4 Queen Street\, Gravesend\, Kent\, DA12 2EE\, United Kingdom
ATTACH;FMTTYPE=image/jpeg:https://reliancefishrestaurant.com/wp-content/uploads/2025/07/Si-Cranstoun-.jpg
END:VEVENT
BEGIN:VEVENT
DTSTART;TZID=Europe/London:20260314T193000
DTEND;TZID=Europe/London:20260314T223000
DTSTAMP:20260421T172751
CREATED:20250225T130155Z
LAST-MODIFIED:20260310T134454Z
UID:157-1773516600-1773527400@reliancefishrestaurant.com
SUMMARY:ABBA Tribute Act
DESCRIPTION:ABBA MAGIC is a popular tribute band dedicated to recreating the energy\, charm\, and iconic sound of the legendary Swedish pop group ABBA. With dazzling costumes\, authentic vocals\, and a dynamic stage presence\, the band delivers an electrifying performance that brings timeless hits like Dancing Queen\, Mamma Mia\, and Waterloo to life. Known for their attention to detail and audience engagement\, ABBA MAGIC offers a nostalgic and fun-filled experience for fans of all ages\, celebrating the magic of ABBA’s music with passion and authenticity. \n\nABBA Tribute Act\nTickets are £39pp (unless otherwise stated)\nIncludes: fish and chips (GF options available)\, ice cream and a great show!\nTo make a booking call us on 07768 087036\n£20pp deposits are required to secure the booking and full payment must be made one month prior to the show.\n\n 
URL:https://reliancefishrestaurant.com/event/abba-tribute-act/
LOCATION:Reliance Fish Restaurant\, 4 Queen Street\, Gravesend\, Kent\, DA12 2EE\, United Kingdom
ATTACH;FMTTYPE=image/jpeg:https://reliancefishrestaurant.com/wp-content/uploads/2025/02/Abba-Magic.jpeg
END:VEVENT
BEGIN:VEVENT
DTSTART;TZID=Europe/London:20260221T193000
DTEND;TZID=Europe/London:20260221T223000
DTSTAMP:20260421T172751
CREATED:20250306T154450Z
LAST-MODIFIED:20251229T160424Z
UID:267-1771702200-1771713000@reliancefishrestaurant.com
SUMMARY:Freddie Mercury Tribute Night
DESCRIPTION:🎤👑 Freddie Mercury Tribute Evening 👑🎤Join us on Saturday 21st February for an unforgettable night celebrating one of the greatest frontmen of all time — Freddie Mercury — performed live by the incredible Gary Goodmaze. \nRenowned for his powerful vocals\, commanding stage presence\, and authentic tribute to Queen’s legendary frontman\, Gary Goodmaze delivers all the anthems you know and love — from Bohemian Rhapsody and Don’t Stop Me Now to Somebody to Love and We Are The Champions. \n✨ A high-energy live show🍽️ Great food & drinks🎶 A night packed with sing-along classics \nPerfect for fans of Queen\, live music lovers\, and anyone looking for a brilliant night out. \n📅 Saturday 21st February📍 Reliance Fish Restaurant🎟️ Book early — this one will sell fast! \n#FreddieMercuryTribute #GaryGoodmaze #QueenTribute #LiveMusicNight #RelianceFishRestaurant #TributeEvening #GravesendEvents #NightOut \n			\n				\n				\n				\n				\n				\nFreddie Mercury Tribute Night\nTickets are £35pp (unless otherwise stated)\nIncludes: fish and chips (GF options available)\, ice cream and a great show!\nTo make a booking call us on 07768 087036\n£20pp deposits are required to secure the booking and full payment must be made one month prior to the show.
URL:https://reliancefishrestaurant.com/event/freddie-mercury-tribute-night/
LOCATION:Reliance Fish Restaurant\, 4 Queen Street\, Gravesend\, Kent\, DA12 2EE\, United Kingdom
ATTACH;FMTTYPE=image/avif:https://reliancefishrestaurant.com/wp-content/uploads/2025/03/IMG_1876_JPG.avif
END:VEVENT
BEGIN:VEVENT
DTSTART;TZID=Europe/London:20260123T193000
DTEND;TZID=Europe/London:20260123T223000
DTSTAMP:20260421T172751
CREATED:20251229T155241Z
LAST-MODIFIED:20260106T162322Z
UID:567-1769196600-1769207400@reliancefishrestaurant.com
SUMMARY:Dolly Parton Tribute Act
DESCRIPTION:Dolly Parton Tribute Evening – Featuring Sarah Jayne\nFriday 23rd January 2026 @ 7:30 pm – 10:30 pm \nGet ready for a sparkling night of country glamour and unforgettable hits as the fabulous Sarah Jayne takes the stage to perform a spectacular Dolly Parton Tribute at Reliance Fish Restaurant. \nWith her amazing vocals\, dazzling presence\, and authentic tribute to one of the world’s most loved country legends\, Sarah Jayne delivers all the classics you know and love — from Jolene and 9 to 5 to I Will Always Love You. \n✨ An evening of live country music🎶 Iconic Dolly Parton hits performed with flair and authenticity🍽️ Delicious food and drinks in a lively\, welcoming atmosphere \nWhether you’re a long-time Dolly fan or simply love great live entertainment\, this is a night not to be missed. \n📅 Friday 23rd January 2026🕢 7:30 pm – 10:30 pm📍 Reliance Fish Restaurant🎟️ Book your table now to secure your spot \n#DollyPartonTribute #SarahJayneLive #CountryMusicNight #RelianceFishRestaurant #GravesendEvents #LiveMusicNight #TributeEvening #NightOut \n\nTickets are £39pp (unless otherwise stated)\nIncludes: fish and chips (GF options available)\, ice cream and a great show!\nTo make a booking call us on 07768 087036\n£20pp deposits are required to secure the booking and full payment must be made one month prior to the show.
URL:https://reliancefishrestaurant.com/event/dolly-parton-tribute-act/
LOCATION:Reliance Fish Restaurant\, 4 Queen Street\, Gravesend\, Kent\, DA12 2EE\, United Kingdom
ATTACH;FMTTYPE=image/avif:https://reliancefishrestaurant.com/wp-content/uploads/2025/12/Dolly-in-White-Smile_edited.avif
END:VEVENT
BEGIN:VEVENT
DTSTART;TZID=Europe/London:20251208T180000
DTEND;TZID=Europe/London:20251208T213000
DTSTAMP:20260421T172751
CREATED:20250312T155435Z
LAST-MODIFIED:20250312T155435Z
UID:382-1765216800-1765229400@reliancefishrestaurant.com
SUMMARY:Local History - Cobham a Kentish Gem
DESCRIPTION:Local History – Cobham a Kentish Gem \nJoin us at the Reliance Fish Restaurant in Gravesend\, Kent for a series of talks by Local Historian Christoph Bull. The talks are illustrated\, with a humorous delivery for a wonderful evening in Gravesend. Bringing local history to local people\, supper included! All events start at 6pm and include a fish and chip supper (Drinks not included)\, followed by the illustrated talk.\nBooking is essential – Call today to secure your seat. \nA collection of stories about Cobham which follows on from the previous talk about the Darnleys
URL:https://reliancefishrestaurant.com/event/local-history-cobham-a-kentish-gem/
LOCATION:Reliance Fish Restaurant\, 4 Queen Street\, Gravesend\, Kent\, DA12 2EE\, United Kingdom
END:VEVENT
BEGIN:VEVENT
DTSTART;TZID=Europe/London:20251206T193000
DTEND;TZID=Europe/London:20251206T223000
DTSTAMP:20260421T172751
CREATED:20250326T122713Z
LAST-MODIFIED:20251202T152844Z
UID:431-1765049400-1765060200@reliancefishrestaurant.com
SUMMARY:Diana Ross / Soul & Motown Tribute Evening
DESCRIPTION:Diana Ross Tribute Evening – Starring Deleelah\nSaturday 6th December @ 7:30 pm – 10:30 pm \nStep into a night of pure glamour\, Motown magic\, and unforgettable classics as the sensational Deleelah brings the iconic hits of Diana Ross to life. \nWith her stunning vocals\, dazzling stage presence\, and authentic tribute to one of music’s greatest legends\, Deleelah delivers all the favourites you know and love — from Ain’t No Mountain High Enough and I’m Coming Out to Endless Love and Chain Reaction. \n✨ Expect an evening filled with timeless Motown energy\, soulful melodies\, and the unmistakable sparkle of Diana Ross — all paired with a delicious set menu inside the warm and welcoming atmosphere of Reliance Fish Restaurant. \n📅 Saturday 6th December🕢 7:30 pm – 10:30 pm👉 Book now and secure your table:https://reliancefishrestaurant.com/events/ \n#DianaRossTribute #DeleelahLive #MotownMagic #GravesendEvents #TributeNight #RelianceFishRestaurant \n\nTickets are £35pp (unless otherwise stated)\nIncludes: fish and chips (GF options available)\, ice cream and a great show!\nTo make a booking call us on 07768 087036\n£20pp deposits are required to secure the booking and full payment must be made one month prior to the show.
URL:https://reliancefishrestaurant.com/event/diana-ross-soul-motown-tribute-evening/
LOCATION:Reliance Fish Restaurant\, 4 Queen Street\, Gravesend\, Kent\, DA12 2EE\, United Kingdom
END:VEVENT
BEGIN:VEVENT
DTSTART;TZID=Europe/London:20251108T193000
DTEND;TZID=Europe/London:20251108T223000
DTSTAMP:20260421T172751
CREATED:20250306T173324Z
LAST-MODIFIED:20251028T091433Z
UID:298-1762630200-1762641000@reliancefishrestaurant.com
SUMMARY:Rod Stewart Tribute Night
DESCRIPTION:Rod Stewart Tribute Evening – Starring Gary Pease\nSaturday\, November 8 @ 7:30 pm – 10:30 pm \nGet ready for a night of rock ‘n’ roll charm and timeless hits as Gary Pease takes to the stage with his incredible Rod Stewart Tribute Evening! \nGary Pease is one of the UK’s top Rod Stewart tribute artists\, capturing the unmistakable voice\, charisma\, and energy of the man himself. From Maggie May and Sailing to Da Ya Think I’m Sexy and Tonight’s the Night\, expect a full evening of Rod’s biggest anthems performed live with passion and flair. \n🎤 Sing\, dance\, and relive the magic of Rod Stewart in an unforgettable night of live entertainment.🍽️ Includes our delicious set menu and the warm\, welcoming atmosphere of Reliance Fish Restaurant. \n👉 Book your table now before it sells out:Call 07768 087036 \n#RodStewartTribute #GaryPease #LiveMusic #GravesendEvents #RelianceFishRestaurant #TributeNight #KentNightsOut \n\nRod Stewart Tribute Night\nTickets are £35pp (unless otherwise stated)\nIncludes: fish and chips (GF options available)\, ice cream and a great show!\nTo make a booking call us on 07768 087036\n£20pp deposits are required to secure the booking and full payment must be made one month prior to the show.
URL:https://reliancefishrestaurant.com/event/rod-stewart-tribute-night/
LOCATION:Reliance Fish Restaurant\, 4 Queen Street\, Gravesend\, Kent\, DA12 2EE\, United Kingdom
ATTACH;FMTTYPE=image/jpeg:https://reliancefishrestaurant.com/wp-content/uploads/2025/03/garry-pease-3.jpg
END:VEVENT
BEGIN:VEVENT
DTSTART;TZID=Europe/London:20251006T180000
DTEND;TZID=Europe/London:20251006T203000
DTSTAMP:20260421T172751
CREATED:20250312T155008Z
LAST-MODIFIED:20250312T155008Z
UID:379-1759773600-1759782600@reliancefishrestaurant.com
SUMMARY:Local History - Earls of Darnley and the Irish Connections - Untold history
DESCRIPTION:Local History – Earls of Darnley and the Irish Connections – untold history \nJoin us at the Reliance Fish Restaurant in Gravesend\, Kent for a series of talks by Local Historian Christoph Bull. The talks are illustrated\, with a humorous delivery for a wonderful evening in Gravesend. Bringing local history to local people\, supper included! All events start at 6pm and include a fish and chip supper (Drinks not included)\, followed by the illustrated talk.\nBooking is essential – Call today to secure your seat.  \nPrepare to be astonished at the largely unknown Irish influence on our largest landowners.
URL:https://reliancefishrestaurant.com/event/local-history-earls-of-darnley-and-the-irish-connections-untold-history/
LOCATION:Reliance Fish Restaurant\, 4 Queen Street\, Gravesend\, Kent\, DA12 2EE\, United Kingdom
END:VEVENT
BEGIN:VEVENT
DTSTART;TZID=Europe/London:20251004T193000
DTEND;TZID=Europe/London:20251004T223000
DTSTAMP:20260421T172751
CREATED:20250306T155543Z
LAST-MODIFIED:20250904T101734Z
UID:279-1759606200-1759617000@reliancefishrestaurant.com
SUMMARY:Freddie Mercury Tribute Night
DESCRIPTION:Freddie Mercury Tribute Night\nTickets are £35pp (unless otherwise stated)\nIncludes: fish and chips (GF options available)\, ice cream and a great show!\nTo make a booking call us on 07768 087036\n£20pp deposits are required to secure the booking and full payment must be made one month prior to the show.\n\n 
URL:https://reliancefishrestaurant.com/event/freddie-mercury-tribute-night-2/
LOCATION:Reliance Fish Restaurant\, 4 Queen Street\, Gravesend\, Kent\, DA12 2EE\, United Kingdom
END:VEVENT
BEGIN:VEVENT
DTSTART;TZID=Europe/London:20250714T180000
DTEND;TZID=Europe/London:20250714T210000
DTSTAMP:20260421T172751
CREATED:20250312T154408Z
LAST-MODIFIED:20250312T154434Z
UID:373-1752516000-1752526800@reliancefishrestaurant.com
SUMMARY:Local History - Northfleet & Swanscombe History Highlights
DESCRIPTION:Local History – Northfleet & Swanscombe History Highlights \nJoin us at the Reliance Fish Restaurant in Gravesend\, Kent for a series of talks by Local Historian Christoph Bull. The talks are illustrated\, with a humorous delivery for a wonderful evening in Gravesend. Bringing local history to local people\, supper included! All events start at 6pm and include a fish and chip supper (Drinks not included)\, followed by the illustrated talk.\nBooking is essential – Call today to secure your seat.  \nA Talk about how the modern world was invented and developed locally and much more!
URL:https://reliancefishrestaurant.com/event/local-history-northfleet-swanscombe-history-highlights/
LOCATION:Reliance Fish Restaurant\, 4 Queen Street\, Gravesend\, Kent\, DA12 2EE\, United Kingdom
END:VEVENT
BEGIN:VEVENT
DTSTART;TZID=Europe/London:20250519T180000
DTEND;TZID=Europe/London:20250519T210000
DTSTAMP:20260421T172751
CREATED:20250310T131254Z
LAST-MODIFIED:20250312T154510Z
UID:369-1747677600-1747688400@reliancefishrestaurant.com
SUMMARY:Local History - The Cold War in Gravesend
DESCRIPTION:Join us at the Reliance Fish Restaurant in Gravesend for a series of talks by Local Historian Christoph Bull. The talks are illustrated\, with a humorous delivery for a wonderful evening in Gravesend. Bringing local history to local people\, supper included! All events start at 6pm and include a fish and chip supper (Drinks not included)\, followed by the illustrated talk.Booking is essential – Call today to secure your seat.  \nThe Cold War in Gravesham\, Swanscombe and the world. \nWhat do we know about local preperations for Armegeddon – and how world wide events affected us here in North West Kent
URL:https://reliancefishrestaurant.com/event/local-history-the-cold-war-in-gravesend/
LOCATION:Reliance Fish Restaurant\, 4 Queen Street\, Gravesend\, Kent\, DA12 2EE\, United Kingdom
END:VEVENT
BEGIN:VEVENT
DTSTART;TZID=Europe/London:20250405T193000
DTEND;TZID=Europe/London:20250405T223000
DTSTAMP:20260421T172751
CREATED:20250225T131945Z
LAST-MODIFIED:20250310T124941Z
UID:162-1743881400-1743892200@reliancefishrestaurant.com
SUMMARY:Marvin Gaye / Soul & Motown Tribute Act
DESCRIPTION:Tickets are £35pp (unless otherwise stated)\nIncludes: fish and chips (GF options available)\, ice cream and a great show!\nTo make a booking call us on 07768 087036\n£20pp deposits are required to secure the booking and full payment must be made one month prior to the show.
URL:https://reliancefishrestaurant.com/event/marvin-gaye-soul-motown-tribute-act/
LOCATION:Reliance Fish Restaurant\, 4 Queen Street\, Gravesend\, Kent\, DA12 2EE\, United Kingdom
END:VEVENT
END:VCALENDAR