BEGIN:VCALENDAR
VERSION:2.0
PRODID:-//Reliance Fish Restaurant - ECPv6.15.17.1//NONSGML v1.0//EN
CALSCALE:GREGORIAN
METHOD:PUBLISH
X-WR-CALNAME:Reliance Fish Restaurant
X-ORIGINAL-URL:https://reliancefishrestaurant.com
X-WR-CALDESC:Events for Reliance Fish Restaurant
REFRESH-INTERVAL;VALUE=DURATION:PT1H
X-Robots-Tag:noindex
X-PUBLISHED-TTL:PT1H
BEGIN:VTIMEZONE
TZID:Europe/London
BEGIN:DAYLIGHT
TZOFFSETFROM:+0000
TZOFFSETTO:+0100
TZNAME:BST
DTSTART:20250330T010000
END:DAYLIGHT
BEGIN:STANDARD
TZOFFSETFROM:+0100
TZOFFSETTO:+0000
TZNAME:GMT
DTSTART:20251026T010000
END:STANDARD
BEGIN:DAYLIGHT
TZOFFSETFROM:+0000
TZOFFSETTO:+0100
TZNAME:BST
DTSTART:20260329T010000
END:DAYLIGHT
BEGIN:STANDARD
TZOFFSETFROM:+0100
TZOFFSETTO:+0000
TZNAME:GMT
DTSTART:20261025T010000
END:STANDARD
BEGIN:DAYLIGHT
TZOFFSETFROM:+0000
TZOFFSETTO:+0100
TZNAME:BST
DTSTART:20270328T010000
END:DAYLIGHT
BEGIN:STANDARD
TZOFFSETFROM:+0100
TZOFFSETTO:+0000
TZNAME:GMT
DTSTART:20271031T010000
END:STANDARD
END:VTIMEZONE
BEGIN:VEVENT
DTSTART;TZID=Europe/London:20261212T193000
DTEND;TZID=Europe/London:20261212T223000
DTSTAMP:20260421T221217
CREATED:20251229T173716Z
LAST-MODIFIED:20251229T174211Z
UID:680-1797103800-1797114600@reliancefishrestaurant.com
SUMMARY:80s & 90's Soul Party Night
DESCRIPTION:🎄🎶 80’s & 90’s Christmas Soul Night – Featuring Deleelah 🎶🎄Get ready to dance\, sing\, and celebrate the festive season in style! Join us for an unforgettable 80’s & 90’s Soul Night with the amazing Deleelah at Reliance Fish Restaurant. \nExpect all the classic R&B and soul hits that defined two iconic decades — from smooth ballads to dancefloor favourites — guaranteed to get you singing along and in the Christmas spirit! \n✨ Live 80’s & 90’s soul performance💃 Dancefloor vibes & festive fun🍽️ Great food\, drinks & lively atmosphere \nPerfect for Christmas parties\, group nights out\, or anyone who loves timeless soul music. \n📅 Date: Saturday\, 12th December 2026📍 Reliance Fish Restaurant🎟️ Book early — limited tables available! \n#80sSoulNight #90sSoulNight #DeleelahLive #ChristmasPartyNight #FestiveVibes #LiveMusicKent #RelianceFishRestaurant #GravesendEvents #SoulMusic #RnBVibes #NightOut
URL:https://reliancefishrestaurant.com/event/80s-90s-soul-party-night/
LOCATION:Reliance Fish Restaurant\, 4 Queen Street\, Gravesend\, Kent\, DA12 2EE\, United Kingdom
ATTACH;FMTTYPE=image/jpeg:https://reliancefishrestaurant.com/wp-content/uploads/2025/02/sade-80s-90s-night.jpeg
END:VEVENT
END:VCALENDAR