BEGIN:VCALENDAR
VERSION:2.0
PRODID:-//Reliance Fish Restaurant - ECPv6.15.17.1//NONSGML v1.0//EN
CALSCALE:GREGORIAN
METHOD:PUBLISH
X-WR-CALNAME:Reliance Fish Restaurant
X-ORIGINAL-URL:https://reliancefishrestaurant.com
X-WR-CALDESC:Events for Reliance Fish Restaurant
REFRESH-INTERVAL;VALUE=DURATION:PT1H
X-Robots-Tag:noindex
X-PUBLISHED-TTL:PT1H
BEGIN:VTIMEZONE
TZID:Europe/London
BEGIN:DAYLIGHT
TZOFFSETFROM:+0000
TZOFFSETTO:+0100
TZNAME:BST
DTSTART:20250330T010000
END:DAYLIGHT
BEGIN:STANDARD
TZOFFSETFROM:+0100
TZOFFSETTO:+0000
TZNAME:GMT
DTSTART:20251026T010000
END:STANDARD
BEGIN:DAYLIGHT
TZOFFSETFROM:+0000
TZOFFSETTO:+0100
TZNAME:BST
DTSTART:20260329T010000
END:DAYLIGHT
BEGIN:STANDARD
TZOFFSETFROM:+0100
TZOFFSETTO:+0000
TZNAME:GMT
DTSTART:20261025T010000
END:STANDARD
BEGIN:DAYLIGHT
TZOFFSETFROM:+0000
TZOFFSETTO:+0100
TZNAME:BST
DTSTART:20270328T010000
END:DAYLIGHT
BEGIN:STANDARD
TZOFFSETFROM:+0100
TZOFFSETTO:+0000
TZNAME:GMT
DTSTART:20271031T010000
END:STANDARD
END:VTIMEZONE
BEGIN:VEVENT
DTSTART;TZID=Europe/London:20261211T193000
DTEND;TZID=Europe/London:20261211T223000
DTSTAMP:20260421T221217
CREATED:20250225T125618Z
LAST-MODIFIED:20251229T173154Z
UID:154-1797017400-1797028200@reliancefishrestaurant.com
SUMMARY:George Michael Tribute Act
DESCRIPTION:🎄🎤 George Michael Tribute Evening – Christmas Party Night 🎤🎄Celebrate the festive season in style on Friday 11th December 2026 with the incredible Andrew Browning performing all the iconic hits of George Michael live at Reliance Fish Restaurant! \nSing along to fan favourites from Wham! and George Michael’s solo career — Careless Whisper\, Faith\, Freedom!\, Last Christmas and many more — in a high-energy Christmas party atmosphere. \n✨ Live George Michael tribute performance by Andrew Browning🎶 Timeless hits & festive vibes🍽️ Delicious food\, drinks & celebration atmosphere \nPerfect for office parties\, group nights out\, or a special festive evening with friends. \n📅 Friday 11th December 2026📍 Reliance Fish Restaurant🎟️ Book now — limited tables available! \n#GeorgeMichaelTribute #AndrewBrowning #ChristmasPartyNight #XmasParty2026 #LiveMusicNight #RelianceFishRestaurant #GravesendEvents #FestiveFun #Wham #PopClassics \n			\n				\n				\n				\n				\n				\nGeorge Michael Tribute Act\nTickets are £39pp (unless otherwise stated)\nIncludes: Fish and Chips (GF options available)\, ice cream and a great show!\nTo make a booking call us on 07768 087036\n£20pp deposits are required to secure the booking and full payment must be made one month prior to the show.\n\nAndrew Browning brings the iconic sounds of George Michael to life with his stunning tribute show. Possessing a remarkable vocal range and an innate understanding of George’s style\, Andrew delivers a performance that’s both heartfelt and electrifying. He has graced stages at a wide range of venues\, across the UK and London\, earning rave reviews for his faithful renditions of George Michael’s greatest hits. Whether performing classic ballads or high-energy dance tracks\, Andrew ensures an unforgettable night of musical nostalgia.
URL:https://reliancefishrestaurant.com/event/george-michael-tribute-act/
LOCATION:Reliance Fish Restaurant\, 4 Queen Street\, Gravesend\, Kent\, DA12 2EE\, United Kingdom
ATTACH;FMTTYPE=image/jpeg:https://reliancefishrestaurant.com/wp-content/uploads/2025/02/George-Michaerl-Tribute-Act.jpg
END:VEVENT
END:VCALENDAR