BEGIN:VCALENDAR
VERSION:2.0
PRODID:-//Reliance Fish Restaurant - ECPv6.15.17.1//NONSGML v1.0//EN
CALSCALE:GREGORIAN
METHOD:PUBLISH
X-WR-CALNAME:Reliance Fish Restaurant
X-ORIGINAL-URL:https://reliancefishrestaurant.com
X-WR-CALDESC:Events for Reliance Fish Restaurant
REFRESH-INTERVAL;VALUE=DURATION:PT1H
X-Robots-Tag:noindex
X-PUBLISHED-TTL:PT1H
BEGIN:VTIMEZONE
TZID:Europe/London
BEGIN:DAYLIGHT
TZOFFSETFROM:+0000
TZOFFSETTO:+0100
TZNAME:BST
DTSTART:20250330T010000
END:DAYLIGHT
BEGIN:STANDARD
TZOFFSETFROM:+0100
TZOFFSETTO:+0000
TZNAME:GMT
DTSTART:20251026T010000
END:STANDARD
BEGIN:DAYLIGHT
TZOFFSETFROM:+0000
TZOFFSETTO:+0100
TZNAME:BST
DTSTART:20260329T010000
END:DAYLIGHT
BEGIN:STANDARD
TZOFFSETFROM:+0100
TZOFFSETTO:+0000
TZNAME:GMT
DTSTART:20261025T010000
END:STANDARD
BEGIN:DAYLIGHT
TZOFFSETFROM:+0000
TZOFFSETTO:+0100
TZNAME:BST
DTSTART:20270328T010000
END:DAYLIGHT
BEGIN:STANDARD
TZOFFSETFROM:+0100
TZOFFSETTO:+0000
TZNAME:GMT
DTSTART:20271031T010000
END:STANDARD
END:VTIMEZONE
BEGIN:VEVENT
DTSTART;TZID=Europe/London:20261204T193000
DTEND;TZID=Europe/London:20261204T223000
DTSTAMP:20260421T205729
CREATED:20250326T122515Z
LAST-MODIFIED:20251229T172727Z
UID:426-1796412600-1796423400@reliancefishrestaurant.com
SUMMARY:ABBA Tribute Evening
DESCRIPTION:🎄✨ ABBA Tribute – ABBA Magic Christmas Party Night ✨🎄Dancing queens\, this one’s for you! 💃🕺Join us on Friday 4th December 2026 for a glittering ABBA Tribute Evening featuring the incredible ABBA Magic — the perfect way to kick off the festive season! \nSing along to all the iconic hits including Dancing Queen\, Mamma Mia\, Waterloo and Gimme! Gimme! Gimme! in a fun\, high-energy Christmas party atmosphere. \n✨ Live ABBA tribute by ABBA Magic🎶 All the greatest hits🎄 Festive vibes\, food & drinks \nPerfect for Christmas parties\, office nights out\, or a brilliant festive night with friends. \n📅 Friday 4th December 2026🎤 ABBA Magic – Live📍 Reliance Fish Restaurant🎟️ Book early — this will sell fast! \n#ABBATribute #ABBAMagic #ChristmasPartyNight #DancingQueen #FestiveEvents #LiveMusicNight #RelianceFishRestaurant #GravesendEvents #XmasParty \n			\n				\n				\n				\n				\n				\nTickets are £39pp (unless otherwise stated)\nIncludes: fish and chips (GF options available)\, ice cream and a great show!\nTo make a booking call us on 07768 087036\n£20pp deposits are required to secure the booking and full payment must be made one month prior to the show.
URL:https://reliancefishrestaurant.com/event/abba-tribute-evening/
LOCATION:Reliance Fish Restaurant\, 4 Queen Street\, Gravesend\, Kent\, DA12 2EE\, United Kingdom
ATTACH;FMTTYPE=image/jpeg:https://reliancefishrestaurant.com/wp-content/uploads/2025/02/514204874_1310280927769056_2416793244155166517_n.jpg
END:VEVENT
END:VCALENDAR