BEGIN:VCALENDAR
VERSION:2.0
PRODID:-//Reliance Fish Restaurant - ECPv6.15.17.1//NONSGML v1.0//EN
CALSCALE:GREGORIAN
METHOD:PUBLISH
X-ORIGINAL-URL:https://reliancefishrestaurant.com
X-WR-CALDESC:Events for Reliance Fish Restaurant
REFRESH-INTERVAL;VALUE=DURATION:PT1H
X-Robots-Tag:noindex
X-PUBLISHED-TTL:PT1H
BEGIN:VTIMEZONE
TZID:Europe/London
BEGIN:DAYLIGHT
TZOFFSETFROM:+0000
TZOFFSETTO:+0100
TZNAME:BST
DTSTART:20250330T010000
END:DAYLIGHT
BEGIN:STANDARD
TZOFFSETFROM:+0100
TZOFFSETTO:+0000
TZNAME:GMT
DTSTART:20251026T010000
END:STANDARD
BEGIN:DAYLIGHT
TZOFFSETFROM:+0000
TZOFFSETTO:+0100
TZNAME:BST
DTSTART:20260329T010000
END:DAYLIGHT
BEGIN:STANDARD
TZOFFSETFROM:+0100
TZOFFSETTO:+0000
TZNAME:GMT
DTSTART:20261025T010000
END:STANDARD
BEGIN:DAYLIGHT
TZOFFSETFROM:+0000
TZOFFSETTO:+0100
TZNAME:BST
DTSTART:20270328T010000
END:DAYLIGHT
BEGIN:STANDARD
TZOFFSETFROM:+0100
TZOFFSETTO:+0000
TZNAME:GMT
DTSTART:20271031T010000
END:STANDARD
END:VTIMEZONE
BEGIN:VEVENT
DTSTART;TZID=Europe/London:20261003T193000
DTEND;TZID=Europe/London:20261003T223000
DTSTAMP:20260421T182609
CREATED:20250306T155309Z
LAST-MODIFIED:20260319T111232Z
UID:273-1791055800-1791066600@reliancefishrestaurant.com
SUMMARY:Cliff Richard Tribute Night
DESCRIPTION:🎸 An Evening with the Best of Cliff – Saturday 3rd October 2026 🎤 \nGet ready to relive the golden years of British pop at Reliance Fish Restaurant’s Cliff Richard Tribute Night\, featuring the UK’s No.1 tribute artist – Jimmy Jemain! \n📅 Saturday 3rd October 2026🕢 7:30 PM – 10:30 PM📍 Reliance Fish Restaurant\, Gravesend \n🎶 From Summer Holiday to Living Doll\, enjoy all the hits in a night packed with nostalgia\, charm\, and unforgettable live performance from Jimmy Jemain\, the only Cliff Richard tribute endorsed by Sir Cliff himself! \n🎟️ Tickets: £39 per person🍽️ Includes: \n\n\nOur signature Fish & Chips \n\n\nA scoop of ice cream \n\n\nA night of timeless classics \n\n\n📞 Booking essential – no walk-ins \n🎫 Seats fill fast – book now and sing along to all your favourites! \n#CliffRichardTribute #JimmyJemainLive #GravesendEvents #RelianceFishRestaurant #LiveMusicNight #DinnerAndShow \n\nCliff Richard Tribute Night\nTickets are £39pp (unless otherwise stated)\nIncludes: fish and chips (GF options available)\, ice cream and a great show!\nTo make a booking call us on 07768 087036\n£20pp deposits are required to secure the booking and full payment must be made one month prior to the show.
URL:https://reliancefishrestaurant.com/event/cliff-richard-tribute-night/
LOCATION:Reliance Fish Restaurant\, 4 Queen Street\, Gravesend\, Kent\, DA12 2EE\, United Kingdom
ATTACH;FMTTYPE=image/jpeg:https://reliancefishrestaurant.com/wp-content/uploads/2025/03/Jimmy-Jermaine.jpg
END:VEVENT
END:VCALENDAR