BEGIN:VCALENDAR
VERSION:2.0
PRODID:-//Reliance Fish Restaurant - ECPv6.15.17.1//NONSGML v1.0//EN
CALSCALE:GREGORIAN
METHOD:PUBLISH
X-ORIGINAL-URL:https://reliancefishrestaurant.com
X-WR-CALDESC:Events for Reliance Fish Restaurant
REFRESH-INTERVAL;VALUE=DURATION:PT1H
X-Robots-Tag:noindex
X-PUBLISHED-TTL:PT1H
BEGIN:VTIMEZONE
TZID:Europe/London
BEGIN:DAYLIGHT
TZOFFSETFROM:+0000
TZOFFSETTO:+0100
TZNAME:BST
DTSTART:20250330T010000
END:DAYLIGHT
BEGIN:STANDARD
TZOFFSETFROM:+0100
TZOFFSETTO:+0000
TZNAME:GMT
DTSTART:20251026T010000
END:STANDARD
BEGIN:DAYLIGHT
TZOFFSETFROM:+0000
TZOFFSETTO:+0100
TZNAME:BST
DTSTART:20260329T010000
END:DAYLIGHT
BEGIN:STANDARD
TZOFFSETFROM:+0100
TZOFFSETTO:+0000
TZNAME:GMT
DTSTART:20261025T010000
END:STANDARD
BEGIN:DAYLIGHT
TZOFFSETFROM:+0000
TZOFFSETTO:+0100
TZNAME:BST
DTSTART:20270328T010000
END:DAYLIGHT
BEGIN:STANDARD
TZOFFSETFROM:+0100
TZOFFSETTO:+0000
TZNAME:GMT
DTSTART:20271031T010000
END:STANDARD
END:VTIMEZONE
BEGIN:VEVENT
DTSTART;TZID=Europe/London:20260624T193000
DTEND;TZID=Europe/London:20260624T223000
DTSTAMP:20260421T143553
CREATED:20250310T124125Z
LAST-MODIFIED:20251229T170734Z
UID:343-1782329400-1782340200@reliancefishrestaurant.com
SUMMARY:The Dualers Night (Tyber)
DESCRIPTION:🎶🔥 The Dualers Night – Featuring Tyber 🔥🎶Get ready for a high-energy night of ska\, reggae and feel-good vibes as we bring you The Dualers Night\, featuring Tyber\, live at Reliance Fish Restaurant. \nExpect infectious rhythms\, crowd-pleasing anthems and that unmistakable Dualers-style sound that gets everyone singing and dancing from start to finish. If you love upbeat ska\, reggae grooves and proper live energy\, this one’s not to be missed. \n✨ Ska & reggae anthems🎤 Live performance with serious energy🍽️ Great food\, drinks & atmosphere \nPerfect for fans of The Dualers\, ska lovers\, and anyone looking for a fun night out. \n📅 The Dualers Night (Tyber)📍 Reliance Fish Restaurant🎟️ Book early — this will be a popular night! \n#TheDualers #TyberLive #SkaNight #ReggaeVibes #LiveMusicNight #RelianceFishRestaurant #GravesendEvents #NightOut \n  \n\nThe Dualers Live in Gravesend!\nTickets are £39pp (unless otherwise stated)\nIncludes: fish and chips (GF options available)\, ice cream and a great show!\nTo make a booking call us on 07768 087036\n£20pp deposits are required to secure the booking and full payment must be made one month prior to the show.
URL:https://reliancefishrestaurant.com/event/the-dualers-night/
LOCATION:Reliance Fish Restaurant\, 4 Queen Street\, Gravesend\, Kent\, DA12 2EE\, United Kingdom
ATTACH;FMTTYPE=image/png:https://reliancefishrestaurant.com/wp-content/uploads/2025/03/the-dualers-logo.png
END:VEVENT
END:VCALENDAR