BEGIN:VCALENDAR
VERSION:2.0
PRODID:-//Reliance Fish Restaurant - ECPv6.15.17.1//NONSGML v1.0//EN
CALSCALE:GREGORIAN
METHOD:PUBLISH
X-WR-CALNAME:Reliance Fish Restaurant
X-ORIGINAL-URL:https://reliancefishrestaurant.com
X-WR-CALDESC:Events for Reliance Fish Restaurant
REFRESH-INTERVAL;VALUE=DURATION:PT1H
X-Robots-Tag:noindex
X-PUBLISHED-TTL:PT1H
BEGIN:VTIMEZONE
TZID:Europe/London
BEGIN:DAYLIGHT
TZOFFSETFROM:+0000
TZOFFSETTO:+0100
TZNAME:BST
DTSTART:20240331T010000
END:DAYLIGHT
BEGIN:STANDARD
TZOFFSETFROM:+0100
TZOFFSETTO:+0000
TZNAME:GMT
DTSTART:20241027T010000
END:STANDARD
BEGIN:DAYLIGHT
TZOFFSETFROM:+0000
TZOFFSETTO:+0100
TZNAME:BST
DTSTART:20250330T010000
END:DAYLIGHT
BEGIN:STANDARD
TZOFFSETFROM:+0100
TZOFFSETTO:+0000
TZNAME:GMT
DTSTART:20251026T010000
END:STANDARD
BEGIN:DAYLIGHT
TZOFFSETFROM:+0000
TZOFFSETTO:+0100
TZNAME:BST
DTSTART:20260329T010000
END:DAYLIGHT
BEGIN:STANDARD
TZOFFSETFROM:+0100
TZOFFSETTO:+0000
TZNAME:GMT
DTSTART:20261025T010000
END:STANDARD
END:VTIMEZONE
BEGIN:VEVENT
DTSTART;TZID=Europe/London:20251208T180000
DTEND;TZID=Europe/London:20251208T213000
DTSTAMP:20260421T164830
CREATED:20250312T155435Z
LAST-MODIFIED:20250312T155435Z
UID:382-1765216800-1765229400@reliancefishrestaurant.com
SUMMARY:Local History - Cobham a Kentish Gem
DESCRIPTION:Local History – Cobham a Kentish Gem \nJoin us at the Reliance Fish Restaurant in Gravesend\, Kent for a series of talks by Local Historian Christoph Bull. The talks are illustrated\, with a humorous delivery for a wonderful evening in Gravesend. Bringing local history to local people\, supper included! All events start at 6pm and include a fish and chip supper (Drinks not included)\, followed by the illustrated talk.\nBooking is essential – Call today to secure your seat. \nA collection of stories about Cobham which follows on from the previous talk about the Darnleys
URL:https://reliancefishrestaurant.com/event/local-history-cobham-a-kentish-gem/
LOCATION:Reliance Fish Restaurant\, 4 Queen Street\, Gravesend\, Kent\, DA12 2EE\, United Kingdom
END:VEVENT
END:VCALENDAR